BEGIN:VCALENDAR
VERSION:2.0
PRODID:-//Tukios.com/
BEGIN:VEVENT
UID:b90bafc6-b704-4266-9cbb-1cef3b4f44a7@www.harrisfuneral.com
DTSTAMP:20260421T234220Z
DTSTART:20260424T150000Z
DTEND:20260424T160000Z
SUMMARY:Graveside Service
DESCRIPTION:
URL:https://www.harrisfuneral.com/obituaries/scott-mccurry
LOCATION: 9511 Abbeville Hwy  Iva SC 29655
GEO:34.3376413;-82.549396
END:VEVENT
END:VCALENDAR